BEGIN:VCALENDAR
VERSION:2.0
PRODID:GIGPRESS 2.0 WORDPRESS PLUGIN
CALSCALE:GREGORIAN
X-WR-TIMEZONE:Etc/GMT
METHOD:PUBLISH
BEGIN:VTIMEZONE
TZID:GMT
BEGIN:STANDARD
DTSTART:20071028T010000
TZOFFSETTO:+0000
TZOFFSETFROM:+0000
END:STANDARD
END:VTIMEZONE
BEGIN:VEVENT
SUMMARY:L'Amicale des Cérébrées à Festival Clown Power
DESCRIPTION:
LOCATION:Festival Clown Power\, Nice (06)\, FR
UID:2&#48;260&#57;2&#54;&#45;2&#57;5&#45;ro&#109;&#97;&#105;&#110;&#64;g&#114;ap&#104;&#105;kar&#98;&#114;&#101;.com
URL:https://www.rosievolt.com
DTSTART;VALUE=DATE;TZID=GMT:20260926
DTEND;VALUE=DATE;TZID=GMT:20260926
DTSTAMP:20260424T023806Z
END:VEVENT
END:VCALENDAR