BEGIN:VCALENDAR
VERSION:2.0
PRODID:GIGPRESS 2.0 WORDPRESS PLUGIN
CALSCALE:GREGORIAN
X-WR-TIMEZONE:Etc/GMT
METHOD:PUBLISH
BEGIN:VTIMEZONE
TZID:GMT
BEGIN:STANDARD
DTSTART:20071028T010000
TZOFFSETTO:+0000
TZOFFSETFROM:+0000
END:STANDARD
END:VTIMEZONE
BEGIN:VEVENT
SUMMARY:L'Amicale des Cérébrées à Festival des Arts de la Rue
DESCRIPTION:
LOCATION:Festival des Arts de la Rue\, Miramont de Guyenne (47)\, FR
UID:&#50;&#48;&#50;6&#48;802-2&#57;3-&#114;&#111;&#109;ai&#110;&#64;gr&#97;p&#104;&#105;kar&#98;r&#101;.&#99;o&#109;
URL:https://www.rosievolt.com
DTSTART;VALUE=DATE;TZID=GMT:20260802
DTEND;VALUE=DATE;TZID=GMT:20260802
DTSTAMP:20260424T023806Z
END:VEVENT
END:VCALENDAR