BEGIN:VCALENDAR
VERSION:2.0
PRODID:GIGPRESS 2.0 WORDPRESS PLUGIN
CALSCALE:GREGORIAN
X-WR-TIMEZONE:Etc/GMT
METHOD:PUBLISH
BEGIN:VTIMEZONE
TZID:GMT
BEGIN:STANDARD
DTSTART:20071028T010000
TZOFFSETTO:+0000
TZOFFSETFROM:+0000
END:STANDARD
END:VTIMEZONE
BEGIN:VEVENT
SUMMARY:L'Amicale des Cérébrées à Festival des Arts de la Rue
DESCRIPTION:
LOCATION:Festival des Arts de la Rue\, Miramont de Guyenne (47)\, FR
UID:20&#50;6080&#49;&#45;2&#57;1-ro&#109;&#97;&#105;n&#64;graphi&#107;&#97;&#114;br&#101;.com
URL:https://www.rosievolt.com
DTSTART;VALUE=DATE;TZID=GMT:20260801
DTEND;VALUE=DATE;TZID=GMT:20260801
DTSTAMP:20260424T023932Z
END:VEVENT
END:VCALENDAR