BEGIN:VCALENDAR
VERSION:2.0
PRODID:GIGPRESS 2.0 WORDPRESS PLUGIN
CALSCALE:GREGORIAN
X-WR-TIMEZONE:Etc/GMT
METHOD:PUBLISH
BEGIN:VTIMEZONE
TZID:GMT
BEGIN:STANDARD
DTSTART:20071028T010000
TZOFFSETTO:+0000
TZOFFSETFROM:+0000
END:STANDARD
END:VTIMEZONE
BEGIN:VEVENT
SUMMARY:L'Amicale des Cérébrées à Kulturfabrik
DESCRIPTION:
LOCATION:Kulturfabrik\, Esch sur Alzette (LUX)\, FR
UID:&#50;0&#50;6&#48;&#54;&#50;0&#45;&#50;&#56;8-&#114;&#111;&#109;&#97;i&#110;&#64;g&#114;aphikarb&#114;&#101;&#46;c&#111;&#109;
URL:https://www.rosievolt.com
DTSTART;VALUE=DATE;TZID=GMT:20260620
DTEND;VALUE=DATE;TZID=GMT:20260620
DTSTAMP:20260424T024326Z
END:VEVENT
END:VCALENDAR