BEGIN:VCALENDAR
VERSION:2.0
PRODID:GIGPRESS 2.0 WORDPRESS PLUGIN
CALSCALE:GREGORIAN
X-WR-TIMEZONE:Etc/GMT
METHOD:PUBLISH
BEGIN:VTIMEZONE
TZID:GMT
BEGIN:STANDARD
DTSTART:20071028T010000
TZOFFSETTO:+0000
TZOFFSETFROM:+0000
END:STANDARD
END:VTIMEZONE
BEGIN:VEVENT
SUMMARY:L'Amicale des Cérébrées à Festival Sous les Pavés...l'Art !
DESCRIPTION:
LOCATION:Festival Sous les Pavés...l'Art !\, Saint-Omer (62)\, FR
UID:2&#48;&#50;60&#53;&#50;&#52;&#84;&#49;&#52;0&#53;&#48;&#48;&#90;-286&#45;rom&#97;&#105;&#110;&#64;grap&#104;ikarb&#114;e.&#99;&#111;m
URL:https://www.rosievolt.com
DTSTART;VALUE=DATE-TIME;TZID=GMT:20260524T140500Z
DTEND;VALUE=DATE-TIME;TZID=GMT:20260524T140500Z
DTSTAMP:20260424T023451Z
END:VEVENT
END:VCALENDAR