BEGIN:VCALENDAR
VERSION:2.0
X-WR-CALNAME: Upcoming shows
PRODID:GIGPRESS 2.0 WORDPRESS PLUGIN
CALSCALE:GREGORIAN
X-WR-TIMEZONE:Etc/GMT
METHOD:PUBLISH
BEGIN:VTIMEZONE
TZID:GMT
BEGIN:STANDARD
DTSTART:20071028T010000
TZOFFSETTO:+0000
TZOFFSETFROM:+0000
END:STANDARD
END:VTIMEZONE
BEGIN:VEVENT
SUMMARY:YADÉWATTS à Camping Les Sauterelles - Festival La Cougouillade
DESCRIPTION:
LOCATION:Camping Les Sauterelles - Festival La Cougouillade\, Fillols (66)\, FR
UID:2&#48;2&#54;0&#53;&#48;9-285-&#114;&#111;&#109;a&#105;&#110;&#64;&#103;ra&#112;h&#105;ka&#114;&#98;re&#46;c&#111;m
URL:https://www.rosievolt.com
DTSTART;VALUE=DATE;TZID=GMT:20260509
DTEND;VALUE=DATE;TZID=GMT:20260509
DTSTAMP:20260424T024152Z
END:VEVENT
BEGIN:VEVENT
SUMMARY:L'Amicale des Cérébrées à Festival Sous les Pavés...l'Art !
DESCRIPTION:
LOCATION:Festival Sous les Pavés...l'Art !\, Saint-Omer (62)\, FR
UID:2&#48;&#50;&#54;&#48;5&#50;4T&#49;&#52;0&#53;&#48;0&#90;&#45;&#50;8&#54;&#45;&#114;&#111;m&#97;&#105;n&#64;g&#114;ap&#104;&#105;ka&#114;bre.c&#111;&#109;
URL:https://www.rosievolt.com
DTSTART;VALUE=DATE-TIME;TZID=GMT:20260524T140500Z
DTEND;VALUE=DATE-TIME;TZID=GMT:20260524T140500Z
DTSTAMP:20260424T024152Z
END:VEVENT
BEGIN:VEVENT
SUMMARY:L'Amicale des Cérébrées à Festival Artjoyette
DESCRIPTION:
LOCATION:Festival Artjoyette\, Saint-Varent (Deux-Sèvres)\, FR
UID:2&#48;&#50;&#54;&#48;&#54;13&#45;&#50;87-&#114;&#111;&#109;&#97;&#105;n&#64;g&#114;&#97;&#112;h&#105;&#107;a&#114;&#98;re&#46;&#99;om
URL:https://www.rosievolt.com
DTSTART;VALUE=DATE;TZID=GMT:20260613
DTEND;VALUE=DATE;TZID=GMT:20260613
DTSTAMP:20260424T024152Z
END:VEVENT
BEGIN:VEVENT
SUMMARY:L'Amicale des Cérébrées à Kulturfabrik
DESCRIPTION:
LOCATION:Kulturfabrik\, Esch sur Alzette (LUX)\, FR
UID:20&#50;60620-2&#56;8-romain&#64;grap&#104;&#105;&#107;&#97;&#114;&#98;&#114;e&#46;c&#111;m
URL:https://www.rosievolt.com
DTSTART;VALUE=DATE;TZID=GMT:20260620
DTEND;VALUE=DATE;TZID=GMT:20260620
DTSTAMP:20260424T024152Z
END:VEVENT
BEGIN:VEVENT
SUMMARY:L'Amicale des Cérébrées à Le Grand Festival
DESCRIPTION:
LOCATION:Le Grand Festival\, Verdun (55)\, FR
UID:2&#48;2&#54;0&#55;1&#55;&#45;289-r&#111;m&#97;&#105;&#110;&#64;g&#114;&#97;&#112;&#104;&#105;&#107;&#97;&#114;br&#101;.&#99;&#111;m
URL:https://www.rosievolt.com
DTSTART;VALUE=DATE;TZID=GMT:20260717
DTEND;VALUE=DATE;TZID=GMT:20260717
DTSTAMP:20260424T024152Z
END:VEVENT
BEGIN:VEVENT
SUMMARY:La Natür c'est le Bonhür à Festival des Arts de la Rue
DESCRIPTION:
LOCATION:Festival des Arts de la Rue\, Miramont de Guyenne (47)\, FR
UID:2&#48;&#50;60801-&#50;&#57;&#48;&#45;&#114;o&#109;ain&#64;&#103;ra&#112;&#104;&#105;&#107;ar&#98;r&#101;.com
URL:https://www.rosievolt.com
DTSTART;VALUE=DATE;TZID=GMT:20260801
DTEND;VALUE=DATE;TZID=GMT:20260801
DTSTAMP:20260424T024152Z
END:VEVENT
BEGIN:VEVENT
SUMMARY:L'Amicale des Cérébrées à Festival des Arts de la Rue
DESCRIPTION:
LOCATION:Festival des Arts de la Rue\, Miramont de Guyenne (47)\, FR
UID:202&#54;0&#56;01&#45;&#50;&#57;&#49;&#45;ro&#109;ain&#64;&#103;&#114;ap&#104;i&#107;&#97;rbre&#46;&#99;&#111;m
URL:https://www.rosievolt.com
DTSTART;VALUE=DATE;TZID=GMT:20260801
DTEND;VALUE=DATE;TZID=GMT:20260801
DTSTAMP:20260424T024152Z
END:VEVENT
BEGIN:VEVENT
SUMMARY:La Natür c'est le Bonhür à Festival des Arts de la Rue
DESCRIPTION:
LOCATION:Festival des Arts de la Rue\, Miramont de Guyenne (47)\, FR
UID:2&#48;26&#48;&#56;&#48;&#50;&#45;&#50;&#57;&#50;&#45;ro&#109;&#97;i&#110;&#64;&#103;&#114;a&#112;hikar&#98;r&#101;&#46;co&#109;
URL:https://www.rosievolt.com
DTSTART;VALUE=DATE;TZID=GMT:20260802
DTEND;VALUE=DATE;TZID=GMT:20260802
DTSTAMP:20260424T024152Z
END:VEVENT
BEGIN:VEVENT
SUMMARY:L'Amicale des Cérébrées à Festival des Arts de la Rue
DESCRIPTION:
LOCATION:Festival des Arts de la Rue\, Miramont de Guyenne (47)\, FR
UID:2&#48;2&#54;&#48;&#56;&#48;&#50;&#45;29&#51;&#45;&#114;o&#109;a&#105;n&#64;&#103;&#114;a&#112;&#104;i&#107;&#97;&#114;br&#101;&#46;&#99;&#111;m
URL:https://www.rosievolt.com
DTSTART;VALUE=DATE;TZID=GMT:20260802
DTEND;VALUE=DATE;TZID=GMT:20260802
DTSTAMP:20260424T024152Z
END:VEVENT
BEGIN:VEVENT
SUMMARY:La Natür c'est le Bonhür à Centre de voix Roy art
DESCRIPTION:
LOCATION:Centre de voix Roy art\, Thoiras-Corbès (30)\, FR
UID:202&#54;08&#49;&#52;-&#50;94-r&#111;&#109;ain&#64;&#103;&#114;&#97;&#112;h&#105;k&#97;&#114;b&#114;e.com
URL:https://www.rosievolt.com
DTSTART;VALUE=DATE;TZID=GMT:20260814
DTEND;VALUE=DATE;TZID=GMT:20260814
DTSTAMP:20260424T024152Z
END:VEVENT
BEGIN:VEVENT
SUMMARY:La Natür c'est le Bonhür à Soirée festive
DESCRIPTION:
LOCATION:Soirée festive\, St-Martin d'Hostun (26)\, FR
UID:202&#54;0906&#45;2&#57;&#54;-&#114;&#111;main&#64;&#103;&#114;&#97;ph&#105;&#107;a&#114;&#98;&#114;e&#46;&#99;o&#109;
URL:https://www.rosievolt.com
DTSTART;VALUE=DATE;TZID=GMT:20260906
DTEND;VALUE=DATE;TZID=GMT:20260906
DTSTAMP:20260424T024152Z
END:VEVENT
BEGIN:VEVENT
SUMMARY:L'Amicale des Cérébrées à Festival Clown Power
DESCRIPTION:
LOCATION:Festival Clown Power\, Nice (06)\, FR
UID:2&#48;26&#48;926&#45;&#50;95-&#114;o&#109;a&#105;n&#64;g&#114;&#97;&#112;&#104;&#105;karbre.&#99;o&#109;
URL:https://www.rosievolt.com
DTSTART;VALUE=DATE;TZID=GMT:20260926
DTEND;VALUE=DATE;TZID=GMT:20260926
DTSTAMP:20260424T024152Z
END:VEVENT
END:VCALENDAR